BEGIN:VCALENDAR
VERSION:2.0
PRODID:-//Plone.org//NONSGML plone.app.event//EN
X-WR-TIMEZONE:Europe/Berlin
BEGIN:VEVENT
SUMMARY:22. TangoTageHalle
DTSTART;VALUE=DATE:20251023
DTEND;VALUE=DATE:20260705
DTSTAMP;VALUE=DATE-TIME:20260421T083131Z
UID:8a3ad76bd5fc475bb303661d4b8e637c@l-tango.de
RRULE:FREQ=DAILY;COUNT=4
CATEGORIES:Umland,jährlich,Spezial
CONTACT:Dr. Stefan Knauß\, info@tangomio.de\, https://www.tangomio.de/tan
 gotage/
CREATED;VALUE=DATE-TIME:20170704T094645Z
DESCRIPTION:Bälle / Workshops / Shows von Stephanie & Fausto (Italy) + Sa
 yaka & Joscha (Vienna). Tanzbare Live-Musik spielt für uns Siempre Tango 
 (Buenos Aires) .
LAST-MODIFIED;VALUE=DATE-TIME:20251002T151835Z
LOCATION:Volkspark\, Schleifweg 8a\, 06114 Halle (Saale)\, Deutschland
URL:https://l-tango.de/tango/tanzen/specials/14-tangotagehalle
END:VEVENT
BEGIN:VEVENT
SUMMARY:Tango Tage Chemnitz
DTSTART;VALUE=DATE:20250912
DTEND;VALUE=DATE:20250915
DTSTAMP;VALUE=DATE-TIME:20260421T083131Z
UID:4546a0f63b3742f59c0a80703759e001@l-tango.de
RRULE:FREQ=DAILY;COUNT=3
ATTENDEE;CN="Mit einem kleinen Festival laden wir wieder nach Chemnitz ein
 . Unsere musikalischen Gäste kommen aus Paris und für die Workshops komm
 t Maria Okružnova aus Riga.";ROLE=REQ-PARTICIPANT:Mit einem kleinen Festi
 val laden wir wieder nach Chemnitz ein. Unsere musikalischen Gäste kommen
  aus Paris und für die Workshops kommt Maria Okružnova aus Riga.
CATEGORIES:Umland,Spezial
CONTACT:https://carl-friedrich-uhlig.de/events/tango-tage-chemnitz-12-14-s
 eptember-2025/
CREATED;VALUE=DATE-TIME:20250827T152156Z
DESCRIPTION:Chemnitz tanzt! 2025\nMilongas\, Shows\, Workshops\, Konzerte\
 , Ehrung
LAST-MODIFIED;VALUE=DATE-TIME:20250827T152951Z
LOCATION:Chemnitz: Hartmannfabrik\, Kraftwerk e. V.\, Atrium Rathauspassag
 e\, Galerie Roter Turm\, Tanzschule Köhler und Schimmel\, Historische Sch
 auweberei Braunsdorf
URL:https://l-tango.de/tango/tanzen/specials/tango-tage-chemnitz
END:VEVENT
BEGIN:VEVENT
SUMMARY:PHANTASTango
DTSTART;VALUE=DATE:20250718
DTEND;VALUE=DATE:20250719
DTSTAMP;VALUE=DATE-TIME:20260421T083131Z
UID:89dbdc8bb0c944e1b66021d36184b803@l-tango.de
RRULE:FREQ=DAILY;COUNT=10
CATEGORIES:jährlich,open air,Einmalig,Spezial,Umland
CONTACT:Lisa Brandin +49 (0)178 139 55 39\, Sandra Körner\, Holger Reinke
  & Mirjam Trepte: info@phantastango.de\, https://phantastango.de/
CREATED;VALUE=DATE-TIME:20250220T152342Z
LAST-MODIFIED;VALUE=DATE-TIME:20250220T152523Z
LOCATION:Zentralwerkstatt Pfännerhall\, Grubenweg 4\, 06242 Braunsbedra
URL:https://l-tango.de/tango/tanzen/specials/phantastango
END:VEVENT
BEGIN:VEVENT
SUMMARY:Besos de Miel 2024 - Tango Marathon
DTSTART;VALUE=DATE:20241129
DTEND;VALUE=DATE:20241203
DTSTAMP;VALUE=DATE-TIME:20260421T083131Z
UID:219aee5f0d764ce5a608329185bee59b@l-tango.de
RRULE:FREQ=DAILY;COUNT=3
EXDATE;TZID=Europe/Berlin:20241030T000000,20241031T000000,20241101T000000
CATEGORIES:Einmalig,Umland,Spezial
CONTACT:Dr. Stefan Knauß\, +49 1577 77 186 33\, info@tangomio.de\, https:
 //www.tangomio.de/besos-de-miel/
CREATED;VALUE=DATE-TIME:20161124T145737Z
DESCRIPTION:Jubiläumsausgabe: 10 Jahre tango mio halle
LAST-MODIFIED;VALUE=DATE-TIME:20240627T092822Z
LOCATION:Volkspark Halle\, Schleifweg 8a\, Eingang Kleine Gosenstraße\, 0
 6114 Halle (Saale)
URL:https://l-tango.de/tango/tanzen/specials/copy_of_besos-de-miel-2017
END:VEVENT
BEGIN:VEVENT
SUMMARY:Milonga-SPEZIAL: Tangosalón Leipzig – feiert 21. Geburtstag
DTSTART;VALUE=DATE:20241025
DTEND;VALUE=DATE:20241026
DTSTAMP;VALUE=DATE-TIME:20260421T083131Z
UID:9d474882e9a6429faecd7c6f7ade4aaa@l-tango.de
RRULE:FREQ=DAILY;COUNT=3
CATEGORIES:Einmalig,Leipzig,Spezial
CONTACT:Tel. 0172/3671624\, info@tango-salon-leipzig.de\, https://www.tang
 o-salon-leipzig.de
CREATED;VALUE=DATE-TIME:20160924T141710Z
DESCRIPTION:Der Tango Salon Leipzig\, lange Zeit mit dem Namen „alma en 
 vuelo“\, schaut auf 21 abwechslungsreiche Jahre zurück. Wir möchten mi
 t Euch und unseren Gästen Natalia Aguero & Agustin Venturino (BsAs) ein W
 ochenende lang feiern.
LAST-MODIFIED;VALUE=DATE-TIME:20240911T144559Z
LOCATION:Tango Salon Leipzig \; Holbeinstraße 29\; Schleußig\; 04229 Lei
 pzig
URL:https://l-tango.de/tango/tanzen/specials/copy2_of_milonga-tangosalon-l
 eipzig-alma-en-vuelo
END:VEVENT
BEGIN:VEVENT
SUMMARY:SPEZIAL: Tango-Jamsession im  Intercity Hotel
DTSTART;TZID=Europe/Berlin;VALUE=DATE-TIME:20240729T210000
DTSTAMP;VALUE=DATE-TIME:20260421T083131Z
UID:edf8f05150dd4280a0fb0706e9acd7f3@l-tango.de
RRULE:FREQ=DAILY;COUNT=5
CATEGORIES:Leipzig,Einmalig,Spezial
CREATED;VALUE=DATE-TIME:20240625T151826Z
DESCRIPTION:Im Rahmnen der "Tango for Musicans"\, einem Festivals für Tan
 gomusiker\, findet eine Jamsession in der Hotelbar des Intercity Hotel sta
 tt -\njeder ist willkommen zum Zuhören und Spielen!
LAST-MODIFIED;VALUE=DATE-TIME:20240625T152845Z
LOCATION:Intercity Hotel\, Tröndlinring 2\, 04105 Leipzig Deutschland
URL:https://l-tango.de/tango/tanzen/specials/jamsession-im-intercity-hotel
END:VEVENT
BEGIN:VEVENT
SUMMARY:Mühlenhof-Mattstedt Tangomarathon
DTSTART;VALUE=DATE:20230831
DTEND;VALUE=DATE:20230904
DTSTAMP;VALUE=DATE-TIME:20260421T083131Z
UID:3356cea518f94ce5a6f3fe2e03e96bf7@l-tango.de
CATEGORIES:Umland,jährlich,Spezial
CONTACT:Dorothea Vent\, 0177 26 72 038\, info@muehlenhof-mattstedt.de\, ht
 tps://www.muehlenhofmattstedt.de/marathon
CREATED;VALUE=DATE-TIME:20161217T182455Z
LAST-MODIFIED;VALUE=DATE-TIME:20230426T094939Z
URL:https://l-tango.de/tango/tanzen/specials/muehlenhof-mattstedt-tangomar
 athon
END:VEVENT
BEGIN:VEVENT
SUMMARY:Tango Weekend (Mattstedt)
DTSTART;VALUE=DATE:20230517
DTEND;VALUE=DATE:20230522
DTSTAMP;VALUE=DATE-TIME:20260421T083131Z
UID:736e80622fd34e7ea442cf936417a556@l-tango.de
CATEGORIES:Einmalig,Spezial,Umland,jährlich
CONTACT:Dorothea Vent\, 0177 26 72 038\, info@muehlenhof-mattstedt.de\, ht
 tps://de.muehlenhofmattstedt.de/tango-weekend-prices
CREATED;VALUE=DATE-TIME:20161124T231805Z
LAST-MODIFIED;VALUE=DATE-TIME:20230426T094939Z
LOCATION:Unterdorf 115\, 99510 Mattstedt
URL:https://l-tango.de/tango/tanzen/specials/tangoweekend-mattstedt
END:VEVENT
BEGIN:VTIMEZONE
TZID:Europe/Berlin
X-LIC-LOCATION:Europe/Berlin
BEGIN:DAYLIGHT
DTSTART;VALUE=DATE-TIME:20240331T030000
TZNAME:CEST
TZOFFSETFROM:+0100
TZOFFSETTO:+0200
END:DAYLIGHT
END:VTIMEZONE
END:VCALENDAR
