BEGIN:VCALENDAR
VERSION:2.0
PRODID:-//Plone.org//NONSGML plone.app.event//EN
X-WR-TIMEZONE:Europe/Berlin
BEGIN:VEVENT
SUMMARY:Tango Festival Chemnitz 2025 (28.5. bis 1.6.)
DTSTART;VALUE=DATE:20250530
DTEND;VALUE=DATE:20250531
DTSTAMP;VALUE=DATE-TIME:20260421T000817Z
UID:1b2144eada944b6a8f683308bb304394@l-tango.de
CATEGORIES:Einmalig,Periodisch,Spezial,Umland
CONTACT:https://carl-friedrich-uhlig.de/events/festival-tango-industrial-2
 025/
CREATED;VALUE=DATE-TIME:20250220T135427Z
DESCRIPTION:Von Donnerstag\, 29.5. – Sonntag\, 1. Juni knüpfen wir an d
 as Festival aus 2014 mit vielen neuen Orten\, Tänzern und Musikern an. He
 rzlich laden wir alle Tänzer und Freunde des Tango Argentino nach Chemnit
 z ein.
LAST-MODIFIED;VALUE=DATE-TIME:20250220T135548Z
URL:https://l-tango.de/tango/tanzen/umland/tango-festival-chemnitz-2025-28
 -5-bis-1-6/2025-05-30
END:VEVENT
END:VCALENDAR
