BEGIN:VCALENDAR
VERSION:2.0
PRODID:-//Plone.org//NONSGML plone.app.event//EN
X-WR-TIMEZONE:Europe/Berlin
BEGIN:VEVENT
SUMMARY:Tango in der Villa
DTSTART;TZID=Europe/Berlin;VALUE=DATE-TIME:20250308T200000
DTSTAMP;VALUE=DATE-TIME:20260426T055433Z
UID:afcc71a5a6b84c2e92ad3939f5a5dee9@l-tango.de
CATEGORIES:Periodisch,Umland
CONTACT:Michael Zabel\, 01774741488\, atelierzabel@web.de
CREATED;VALUE=DATE-TIME:20250127T093059Z
DESCRIPTION:TANGO IN DER VILLA ist die neue Milonga für die Mitteldeutsch
 e Region (Dessau-Roßlau) – ein regelmäßiger Treffpunkt für alle\, di
 e die Eleganz\, Leidenschaft und Magie des Tangos lieben.
LAST-MODIFIED;VALUE=DATE-TIME:20250402T081525Z
LOCATION:Villa Krötenhof\, Wasserstadt 50\, Dessau-Roßlau\, Germany\, 06
 844
URL:https://l-tango.de/tango/tanzen/umland/tango-in-der-villa/2025-03-08
END:VEVENT
BEGIN:VTIMEZONE
TZID:Europe/Berlin
X-LIC-LOCATION:Europe/Berlin
BEGIN:STANDARD
DTSTART;VALUE=DATE-TIME:20241027T020000
TZNAME:CET
TZOFFSETFROM:+0200
TZOFFSETTO:+0100
END:STANDARD
END:VTIMEZONE
END:VCALENDAR
